BEGIN:VCALENDAR
VERSION:2.0
PRODID:SchoolNow
CALSCALE:GREGORIAN
BEGIN:VEVENT
UID:4dc7d38e-3163-11ed-994d-02c0d22b8e6d
DTSTAMP:20220910T235009Z
SUMMARY:The Lodge Stand Up Comedy w/James - Oct. 16th
URL;VALUE=URI:https://www.wildernesslakecdd.org/calendar/3373475/the-lodge-
 stand-up-comedy-w-james-sept-25th-clone
DTSTART:20221016T230000Z
DTEND:20221017T004500Z
END:VEVENT
END:VCALENDAR
