BEGIN:VCALENDAR
VERSION:2.0
PRODID:SchoolNow
CALSCALE:GREGORIAN
BEGIN:VEVENT
UID:3aa1deb2-3163-11ed-837c-02c0d22b8e6d
DTSTAMP:20220910T234937Z
SUMMARY:The Lodge Stand Up Comedy w/James - Sept. 25th
URL;VALUE=URI:https://www.wildernesslakecdd.org/calendar/3373474/the-lodge-
 stand-up-comedy-w-james-sept-25th
DTSTART:20220925T230000Z
DTEND:20220926T004500Z
END:VEVENT
END:VCALENDAR
