BEGIN:VCALENDAR
VERSION:2.0
PRODID:SchoolNow
CALSCALE:GREGORIAN
BEGIN:VEVENT
UID:1533008e-3163-11ed-b772-02c0d22b8e6d
DTSTAMP:20220910T234834Z
SUMMARY:Disney Story Time w/Aga
URL;VALUE=URI:https://www.wildernesslakecdd.org/calendar/3373473/disney-sto
 ry-time-w-aga
DTSTART:20220925T180000Z
DTEND:20220925T200000Z
END:VEVENT
END:VCALENDAR
