BEGIN:VCALENDAR
VERSION:2.0
PRODID:SchoolNow
CALSCALE:GREGORIAN
BEGIN:VEVENT
UID:f40284b6-3162-11ed-bf7f-02c0d22b8e6d
DTSTAMP:20220910T234738Z
SUMMARY:Tennis Class w/Mr. Watson - Dec. 17th
URL;VALUE=URI:https://www.wildernesslakecdd.org/calendar/3373472/tennis-cla
 ss-w-mr-watson-dec-17th
DTSTART:20221217T140000Z
DTEND:20221217T160000Z
END:VEVENT
END:VCALENDAR
