BEGIN:VCALENDAR
VERSION:2.0
PRODID:SchoolNow
CALSCALE:GREGORIAN
BEGIN:VEVENT
UID:d961ee08-3162-11ed-a039-02c0d22b8e6d
DTSTAMP:20220910T234654Z
SUMMARY:Tennis Class w/Mr. Watson - Dec. 3rd
URL;VALUE=URI:https://www.wildernesslakecdd.org/calendar/3373471/tennis-cla
 ss-w-mr-watson-dec-3rd
DTSTART:20221203T140000Z
DTEND:20221203T160000Z
END:VEVENT
END:VCALENDAR
