BEGIN:VCALENDAR
VERSION:2.0
PRODID:SchoolNow
CALSCALE:GREGORIAN
BEGIN:VEVENT
UID:5394285e-3162-11ed-94de-02c0d22b8e6d
DTSTAMP:20220910T234459Z
SUMMARY:Tennis Class w/Mr. Watson - Oct. 22nd
URL;VALUE=URI:https://www.wildernesslakecdd.org/calendar/3373469/tennis-cla
 ss-w-mr-watson-oct-22nd
DTSTART:20221022T130000Z
DTEND:20221022T150000Z
END:VEVENT
END:VCALENDAR
