BEGIN:VCALENDAR
VERSION:2.0
PRODID:SchoolNow
CALSCALE:GREGORIAN
BEGIN:VEVENT
UID:425f621a-3162-11ed-a587-02c0d22b8e6d
DTSTAMP:20220910T234414Z
SUMMARY:Tennis Class w/Mr. Watson - Oct. 8th
URL;VALUE=URI:https://www.wildernesslakecdd.org/calendar/3373468/tennis-cla
 ss-w-mr-watson-oct-8th
DTSTART:20221008T130000Z
DTEND:20221008T150000Z
END:VEVENT
END:VCALENDAR
