BEGIN:VCALENDAR
VERSION:2.0
PRODID:SchoolNow
CALSCALE:GREGORIAN
BEGIN:VEVENT
UID:2215cc6a-3162-11ed-8e3f-02c0d22b8e6d
DTSTAMP:20220910T234602Z
SUMMARY:Tennis Class w/Mr. Watson - Nov. 5th
URL;VALUE=URI:https://www.wildernesslakecdd.org/calendar/3373467/tennis-cla
 ss-w-mr-watson-nov-5th
DTSTART:20221105T130000Z
DTEND:20221105T150000Z
END:VEVENT
END:VCALENDAR
