BEGIN:VCALENDAR
VERSION:2.0
PRODID:SchoolNow
CALSCALE:GREGORIAN
BEGIN:VEVENT
UID:00d5449a-3162-11ed-8800-02c0d22b8e6d
DTSTAMP:20220910T234434Z
SUMMARY:Tennis Class w/Mr. Watson - Sept. 24th
URL;VALUE=URI:https://www.wildernesslakecdd.org/calendar/3373466/tennis-cla
 ss-w-mr-watson-sept-24th
DTSTART:20220924T130000Z
DTEND:20220924T150000Z
END:VEVENT
END:VCALENDAR
