BEGIN:VCALENDAR
VERSION:2.0
PRODID:SchoolNow
CALSCALE:GREGORIAN
BEGIN:VEVENT
UID:a76ab4f8-3161-11ed-8249-02c0d22b8e6d
DTSTAMP:20220910T233820Z
SUMMARY:Bunco - Oct. 18th
URL;VALUE=URI:https://www.wildernesslakecdd.org/calendar/3373464/bunco-oct-
 18th
DTSTART:20221018T230000Z
DTEND:20221019T004500Z
END:VEVENT
END:VCALENDAR
