BEGIN:VCALENDAR
VERSION:2.0
PRODID:SchoolNow
CALSCALE:GREGORIAN
BEGIN:VEVENT
UID:96d255d8-3161-11ed-9d4c-02c0d22b8e6d
DTSTAMP:20220910T233831Z
SUMMARY:Bunco - Sept. 20th
URL;VALUE=URI:https://www.wildernesslakecdd.org/calendar/3373463/bunco-sept
 -20th
DTSTART:20220920T230000Z
DTEND:20220921T004500Z
END:VEVENT
END:VCALENDAR
