BEGIN:VCALENDAR
VERSION:2.0
PRODID:SchoolNow
CALSCALE:GREGORIAN
BEGIN:VEVENT
UID:76c63bce-3161-11ed-b176-02c0d22b8e6d
DTSTAMP:20220910T233659Z
SUMMARY:Water Aerobics - Dec. 30th
URL;VALUE=URI:https://www.wildernesslakecdd.org/calendar/3373462/water-aero
 bics-dec-30th
DTSTART:20221230T140000Z
DTEND:20221230T150000Z
END:VEVENT
END:VCALENDAR
