BEGIN:VCALENDAR
VERSION:2.0
PRODID:SchoolNow
CALSCALE:GREGORIAN
BEGIN:VEVENT
UID:6b2b79dc-3161-11ed-9caa-02c0d22b8e6d
DTSTAMP:20220910T233639Z
SUMMARY:Water Aerobics - Dec. 28th
URL;VALUE=URI:https://www.wildernesslakecdd.org/calendar/3373461/water-aero
 bics-dec-28th
DTSTART:20221228T140000Z
DTEND:20221228T150000Z
END:VEVENT
END:VCALENDAR
