BEGIN:VCALENDAR
VERSION:2.0
PRODID:SchoolNow
CALSCALE:GREGORIAN
BEGIN:VEVENT
UID:5e0c4538-3161-11ed-bcf2-02c0d22b8e6d
DTSTAMP:20220910T233617Z
SUMMARY:Water Aerobics - Dec. 27th
URL;VALUE=URI:https://www.wildernesslakecdd.org/calendar/3373460/water-aero
 bics-dec-27th
DTSTART:20221227T140000Z
DTEND:20221227T150000Z
END:VEVENT
END:VCALENDAR
