BEGIN:VCALENDAR
VERSION:2.0
PRODID:SchoolNow
CALSCALE:GREGORIAN
BEGIN:VEVENT
UID:49ea55fe-3161-11ed-9482-02c0d22b8e6d
DTSTAMP:20220910T233544Z
SUMMARY:Water Aerobics - Dec. 23rd
URL;VALUE=URI:https://www.wildernesslakecdd.org/calendar/3373459/water-aero
 bics-dec-23rd
DTSTART:20221223T140000Z
DTEND:20221223T150000Z
END:VEVENT
END:VCALENDAR
