BEGIN:VCALENDAR
VERSION:2.0
PRODID:SchoolNow
CALSCALE:GREGORIAN
BEGIN:VEVENT
UID:3c43980c-3161-11ed-86bf-02c0d22b8e6d
DTSTAMP:20220910T233521Z
SUMMARY:Water Aerobics - Dec. 21st
URL;VALUE=URI:https://www.wildernesslakecdd.org/calendar/3373458/water-aero
 bics-dec-21st
DTSTART:20221221T140000Z
DTEND:20221221T150000Z
END:VEVENT
END:VCALENDAR
