BEGIN:VCALENDAR
VERSION:2.0
PRODID:SchoolNow
CALSCALE:GREGORIAN
BEGIN:VEVENT
UID:30af846a-3161-11ed-9e67-02c0d22b8e6d
DTSTAMP:20220910T233501Z
SUMMARY:Water Aerobics - Dec. 20th
URL;VALUE=URI:https://www.wildernesslakecdd.org/calendar/3373457/water-aero
 bics-dec-20th
DTSTART:20221220T140000Z
DTEND:20221220T150000Z
END:VEVENT
END:VCALENDAR
