BEGIN:VCALENDAR
VERSION:2.0
PRODID:SchoolNow
CALSCALE:GREGORIAN
BEGIN:VEVENT
UID:2573f16c-3161-11ed-9647-02c0d22b8e6d
DTSTAMP:20220910T233442Z
SUMMARY:Water Aerobics - Dec. 19th
URL;VALUE=URI:https://www.wildernesslakecdd.org/calendar/3373456/water-aero
 bics-dec-19th
DTSTART:20221219T140000Z
DTEND:20221219T150000Z
END:VEVENT
END:VCALENDAR
