BEGIN:VCALENDAR
VERSION:2.0
PRODID:SchoolNow
CALSCALE:GREGORIAN
BEGIN:VEVENT
UID:14b8f2e6-3161-11ed-8e94-02c0d22b8e6d
DTSTAMP:20220910T233414Z
SUMMARY:Water Aerobics - Dec. 16th
URL;VALUE=URI:https://www.wildernesslakecdd.org/calendar/3373455/water-aero
 bics-dec-16th
DTSTART:20221216T140000Z
DTEND:20221216T150000Z
END:VEVENT
END:VCALENDAR
