BEGIN:VCALENDAR
VERSION:2.0
PRODID:SchoolNow
CALSCALE:GREGORIAN
BEGIN:VEVENT
UID:07647976-3161-11ed-ada8-02c0d22b8e6d
DTSTAMP:20220910T233352Z
SUMMARY:Water Aerobics - Dec. 14th
URL;VALUE=URI:https://www.wildernesslakecdd.org/calendar/3373454/water-aero
 bics-dec-14th
DTSTART:20221214T140000Z
DTEND:20221214T150000Z
END:VEVENT
END:VCALENDAR
