BEGIN:VCALENDAR
VERSION:2.0
PRODID:SchoolNow
CALSCALE:GREGORIAN
BEGIN:VEVENT
UID:fc7ec444-3160-11ed-9b9b-02c0d22b8e6d
DTSTAMP:20220910T233334Z
SUMMARY:Water Aerobics - Dec. 13th
URL;VALUE=URI:https://www.wildernesslakecdd.org/calendar/3373453/water-aero
 bics-dec-13th
DTSTART:20221213T140000Z
DTEND:20221213T150000Z
END:VEVENT
END:VCALENDAR
