BEGIN:VCALENDAR
VERSION:2.0
PRODID:SchoolNow
CALSCALE:GREGORIAN
BEGIN:VEVENT
UID:ef552c22-3160-11ed-9beb-02c0d22b8e6d
DTSTAMP:20220910T233312Z
SUMMARY:Water Aerobics - Dec. 12th
URL;VALUE=URI:https://www.wildernesslakecdd.org/calendar/3373452/water-aero
 bics-dec-12th
DTSTART:20221212T140000Z
DTEND:20221212T150000Z
END:VEVENT
END:VCALENDAR
