BEGIN:VCALENDAR
VERSION:2.0
PRODID:SchoolNow
CALSCALE:GREGORIAN
BEGIN:VEVENT
UID:e25e1b3c-3160-11ed-bc82-02c0d22b8e6d
DTSTAMP:20220910T233250Z
SUMMARY:Water Aerobics - Dec. 9th
URL;VALUE=URI:https://www.wildernesslakecdd.org/calendar/3373451/water-aero
 bics-dec-9th
DTSTART:20221209T140000Z
DTEND:20221209T150000Z
END:VEVENT
END:VCALENDAR
