BEGIN:VCALENDAR
VERSION:2.0
PRODID:SchoolNow
CALSCALE:GREGORIAN
BEGIN:VEVENT
UID:d7903e7e-3160-11ed-b24a-02c0d22b8e6d
DTSTAMP:20220910T233232Z
SUMMARY:Water Aerobics - Dec. 7th
URL;VALUE=URI:https://www.wildernesslakecdd.org/calendar/3373450/water-aero
 bics-dec-7th
DTSTART:20221207T140000Z
DTEND:20221207T150000Z
END:VEVENT
END:VCALENDAR
