BEGIN:VCALENDAR
VERSION:2.0
PRODID:SchoolNow
CALSCALE:GREGORIAN
BEGIN:VEVENT
UID:ccb5e56c-3160-11ed-9122-02c0d22b8e6d
DTSTAMP:20220910T233213Z
SUMMARY:Water Aerobics - Dec. 6th
URL;VALUE=URI:https://www.wildernesslakecdd.org/calendar/3373449/water-aero
 bics-dec-6th
DTSTART:20221206T140000Z
DTEND:20221206T150000Z
END:VEVENT
END:VCALENDAR
