BEGIN:VCALENDAR
VERSION:2.0
PRODID:SchoolNow
CALSCALE:GREGORIAN
BEGIN:VEVENT
UID:c0e2da60-3160-11ed-bba4-02c0d22b8e6d
DTSTAMP:20220910T233154Z
SUMMARY:Water Aerobics - Dec. 5th
URL;VALUE=URI:https://www.wildernesslakecdd.org/calendar/3373448/water-aero
 bics-dec-5th
DTSTART:20221205T140000Z
DTEND:20221205T150000Z
END:VEVENT
END:VCALENDAR
