BEGIN:VCALENDAR
VERSION:2.0
PRODID:SchoolNow
CALSCALE:GREGORIAN
BEGIN:VEVENT
UID:a9e93e6c-3160-11ed-90ca-02c0d22b8e6d
DTSTAMP:20220910T233115Z
SUMMARY:Water Aerobics - Dec. 2nd
URL;VALUE=URI:https://www.wildernesslakecdd.org/calendar/3373447/water-aero
 bics-dec-2nd
DTSTART:20221202T140000Z
DTEND:20221202T150000Z
END:VEVENT
END:VCALENDAR
