BEGIN:VCALENDAR
VERSION:2.0
PRODID:SchoolNow
CALSCALE:GREGORIAN
BEGIN:VEVENT
UID:99f550a4-3160-11ed-aee8-02c0d22b8e6d
DTSTAMP:20220910T233048Z
SUMMARY:Water Aerobics - Nov. 30th
URL;VALUE=URI:https://www.wildernesslakecdd.org/calendar/3373446/water-aero
 bics-nov-30th
DTSTART:20221130T140000Z
DTEND:20221130T150000Z
END:VEVENT
END:VCALENDAR
