BEGIN:VCALENDAR
VERSION:2.0
PRODID:SchoolNow
CALSCALE:GREGORIAN
BEGIN:VEVENT
UID:8bd421da-3160-11ed-b1ce-02c0d22b8e6d
DTSTAMP:20220910T233025Z
SUMMARY:Water Aerobics - Nov. 29th
URL;VALUE=URI:https://www.wildernesslakecdd.org/calendar/3373445/water-aero
 bics-nov-29th
DTSTART:20221129T140000Z
DTEND:20221129T150000Z
END:VEVENT
END:VCALENDAR
