BEGIN:VCALENDAR
VERSION:2.0
PRODID:SchoolNow
CALSCALE:GREGORIAN
BEGIN:VEVENT
UID:7fa0ac9e-3160-11ed-9d83-02c0d22b8e6d
DTSTAMP:20220910T233004Z
SUMMARY:Water Aerobics - Nov. 28th
URL;VALUE=URI:https://www.wildernesslakecdd.org/calendar/3373444/water-aero
 bics-nov-28th
DTSTART:20221128T140000Z
DTEND:20221128T150000Z
END:VEVENT
END:VCALENDAR
