BEGIN:VCALENDAR
VERSION:2.0
PRODID:SchoolNow
CALSCALE:GREGORIAN
BEGIN:VEVENT
UID:604259ba-3160-11ed-b82c-02c0d22b8e6d
DTSTAMP:20220910T232911Z
SUMMARY:Water Aerobics - Nov. 23rd
URL;VALUE=URI:https://www.wildernesslakecdd.org/calendar/3373442/water-aero
 bics-nov-23rd
DTSTART:20221123T140000Z
DTEND:20221123T150000Z
END:VEVENT
END:VCALENDAR
