BEGIN:VCALENDAR
VERSION:2.0
PRODID:SchoolNow
CALSCALE:GREGORIAN
BEGIN:VEVENT
UID:481d7dc4-3160-11ed-bce2-02c0d22b8e6d
DTSTAMP:20220910T232831Z
SUMMARY:Water Aerobics - Nov. 22nd
URL;VALUE=URI:https://www.wildernesslakecdd.org/calendar/3373441/water-aero
 bics-nov-22nd
DTSTART:20221122T140000Z
DTEND:20221122T150000Z
END:VEVENT
END:VCALENDAR
