BEGIN:VCALENDAR
VERSION:2.0
PRODID:SchoolNow
CALSCALE:GREGORIAN
BEGIN:VEVENT
UID:3e59eef8-3160-11ed-9288-02c0d22b8e6d
DTSTAMP:20220910T232815Z
SUMMARY:Water Aerobics - Nov. 21st
URL;VALUE=URI:https://www.wildernesslakecdd.org/calendar/3373440/water-aero
 bics-nov-21st
DTSTART:20221121T140000Z
DTEND:20221121T150000Z
END:VEVENT
END:VCALENDAR
