BEGIN:VCALENDAR
VERSION:2.0
PRODID:SchoolNow
CALSCALE:GREGORIAN
BEGIN:VEVENT
UID:2e11b7a6-3160-11ed-af5e-02c0d22b8e6d
DTSTAMP:20220910T232747Z
SUMMARY:Water Aerobics - Nov. 18th
URL;VALUE=URI:https://www.wildernesslakecdd.org/calendar/3373439/water-aero
 bics-nov-18th
DTSTART:20221118T140000Z
DTEND:20221118T150000Z
END:VEVENT
END:VCALENDAR
