BEGIN:VCALENDAR
VERSION:2.0
PRODID:SchoolNow
CALSCALE:GREGORIAN
BEGIN:VEVENT
UID:20613d84-3160-11ed-ba07-02c0d22b8e6d
DTSTAMP:20220910T232724Z
SUMMARY:Water Aerobics - Nov. 16th
URL;VALUE=URI:https://www.wildernesslakecdd.org/calendar/3373438/water-aero
 bics-nov-16th
DTSTART:20221116T140000Z
DTEND:20221116T150000Z
END:VEVENT
END:VCALENDAR
