BEGIN:VCALENDAR
VERSION:2.0
PRODID:SchoolNow
CALSCALE:GREGORIAN
BEGIN:VEVENT
UID:16fa21d4-3160-11ed-a60c-02c0d22b8e6d
DTSTAMP:20220910T232709Z
SUMMARY:Water Aerobics - Nov. 15th
URL;VALUE=URI:https://www.wildernesslakecdd.org/calendar/3373437/water-aero
 bics-nov-15th
DTSTART:20221115T140000Z
DTEND:20221115T150000Z
END:VEVENT
END:VCALENDAR
