BEGIN:VCALENDAR
VERSION:2.0
PRODID:SchoolNow
CALSCALE:GREGORIAN
BEGIN:VEVENT
UID:06be5722-3160-11ed-844f-02c0d22b8e6d
DTSTAMP:20220910T232641Z
SUMMARY:Water Aerobics - Nov. 14th
URL;VALUE=URI:https://www.wildernesslakecdd.org/calendar/3373436/water-aero
 bics-nov-14th
DTSTART:20221114T140000Z
DTEND:20221114T150000Z
END:VEVENT
END:VCALENDAR
