BEGIN:VCALENDAR
VERSION:2.0
PRODID:SchoolNow
CALSCALE:GREGORIAN
BEGIN:VEVENT
UID:f7cc4594-315f-11ed-9429-02c0d22b8e6d
DTSTAMP:20220910T232616Z
SUMMARY:Water Aerobics - Nov. 11th
URL;VALUE=URI:https://www.wildernesslakecdd.org/calendar/3373435/water-aero
 bics-nov-11th
DTSTART:20221111T140000Z
DTEND:20221111T150000Z
END:VEVENT
END:VCALENDAR
