BEGIN:VCALENDAR
VERSION:2.0
PRODID:SchoolNow
CALSCALE:GREGORIAN
BEGIN:VEVENT
UID:e8b5f12c-315f-11ed-bb94-02c0d22b8e6d
DTSTAMP:20220910T232551Z
SUMMARY:Water Aerobics - Nov. 9th
URL;VALUE=URI:https://www.wildernesslakecdd.org/calendar/3373434/water-aero
 bics-nov-9th
DTSTART:20221109T140000Z
DTEND:20221109T150000Z
END:VEVENT
END:VCALENDAR
