BEGIN:VCALENDAR
VERSION:2.0
PRODID:SchoolNow
CALSCALE:GREGORIAN
BEGIN:VEVENT
UID:dc5a2218-315f-11ed-b1f8-02c0d22b8e6d
DTSTAMP:20220910T232530Z
SUMMARY:Water Aerobics - Nov. 8th
URL;VALUE=URI:https://www.wildernesslakecdd.org/calendar/3373433/water-aero
 bics-nov-8th
DTSTART:20221108T140000Z
DTEND:20221108T150000Z
END:VEVENT
END:VCALENDAR
