BEGIN:VCALENDAR
VERSION:2.0
PRODID:SchoolNow
CALSCALE:GREGORIAN
BEGIN:VEVENT
UID:cfbf5c12-315f-11ed-8328-02c0d22b8e6d
DTSTAMP:20220910T232509Z
SUMMARY:Water Aerobics - Nov. 7th
URL;VALUE=URI:https://www.wildernesslakecdd.org/calendar/3373432/water-aero
 bics-nov-7th
DTSTART:20221107T140000Z
DTEND:20221107T150000Z
END:VEVENT
END:VCALENDAR
