BEGIN:VCALENDAR
VERSION:2.0
PRODID:SchoolNow
CALSCALE:GREGORIAN
BEGIN:VEVENT
UID:bdcb74b4-315f-11ed-901a-02c0d22b8e6d
DTSTAMP:20220910T232439Z
SUMMARY:Water Aerobics - Nov. 4th
URL;VALUE=URI:https://www.wildernesslakecdd.org/calendar/3373431/water-aero
 bics-nov-4th
DTSTART:20221104T130000Z
DTEND:20221104T140000Z
END:VEVENT
END:VCALENDAR
