BEGIN:VCALENDAR
VERSION:2.0
PRODID:SchoolNow
CALSCALE:GREGORIAN
BEGIN:VEVENT
UID:af90f66c-315f-11ed-aa58-02c0d22b8e6d
DTSTAMP:20220910T232415Z
SUMMARY:Water Aerobics - Nov. 2nd
URL;VALUE=URI:https://www.wildernesslakecdd.org/calendar/3373430/water-aero
 bics-nov-2nd
DTSTART:20221102T130000Z
DTEND:20221102T140000Z
END:VEVENT
END:VCALENDAR
