BEGIN:VCALENDAR
VERSION:2.0
PRODID:SchoolNow
CALSCALE:GREGORIAN
BEGIN:VEVENT
UID:a06c164e-315f-11ed-bfe1-02c0d22b8e6d
DTSTAMP:20220910T232350Z
SUMMARY:Water Aerobics - Nov. 1st
URL;VALUE=URI:https://www.wildernesslakecdd.org/calendar/3373429/water-aero
 bics-nov-1st
DTSTART:20221101T130000Z
DTEND:20221101T140000Z
END:VEVENT
END:VCALENDAR
