BEGIN:VCALENDAR
VERSION:2.0
PRODID:SchoolNow
CALSCALE:GREGORIAN
BEGIN:VEVENT
UID:8b9a2bd4-315f-11ed-a9ed-02c0d22b8e6d
DTSTAMP:20220910T232315Z
SUMMARY:Water Aerobics - Oct. 31st
URL;VALUE=URI:https://www.wildernesslakecdd.org/calendar/3373428/water-aero
 bics-oct-31st
DTSTART:20221031T130000Z
DTEND:20221031T140000Z
END:VEVENT
END:VCALENDAR
