BEGIN:VCALENDAR
VERSION:2.0
PRODID:SchoolNow
CALSCALE:GREGORIAN
BEGIN:VEVENT
UID:7a92ad2a-315f-11ed-af69-02c0d22b8e6d
DTSTAMP:20220910T232246Z
SUMMARY:Water Aerobics - Oct. 28th
URL;VALUE=URI:https://www.wildernesslakecdd.org/calendar/3373427/water-aero
 bics-oct-28th
DTSTART:20221028T130000Z
DTEND:20221028T140000Z
END:VEVENT
END:VCALENDAR
