BEGIN:VCALENDAR
VERSION:2.0
PRODID:SchoolNow
CALSCALE:GREGORIAN
BEGIN:VEVENT
UID:6961ede0-315f-11ed-8834-02c0d22b8e6d
DTSTAMP:20220910T232217Z
SUMMARY:Water Aerobics - Oct. 26th
URL;VALUE=URI:https://www.wildernesslakecdd.org/calendar/3373426/water-aero
 bics-oct-26th
DTSTART:20221026T130000Z
DTEND:20221026T140000Z
END:VEVENT
END:VCALENDAR
