BEGIN:VCALENDAR
VERSION:2.0
PRODID:SchoolNow
CALSCALE:GREGORIAN
BEGIN:VEVENT
UID:55ee8f8e-315f-11ed-b548-02c0d22b8e6d
DTSTAMP:20220910T232145Z
SUMMARY:Water Aerobics - Oct. 24th
URL;VALUE=URI:https://www.wildernesslakecdd.org/calendar/3373425/water-aero
 bics-oct-24th
DTSTART:20221024T130000Z
DTEND:20221024T140000Z
END:VEVENT
END:VCALENDAR
