BEGIN:VCALENDAR
VERSION:2.0
PRODID:SchoolNow
CALSCALE:GREGORIAN
BEGIN:VEVENT
UID:45c79b5a-315f-11ed-9cc9-02c0d22b8e6d
DTSTAMP:20220910T232118Z
SUMMARY:Water Aerobics - Oct. 25th
URL;VALUE=URI:https://www.wildernesslakecdd.org/calendar/3373424/water-aero
 bics-oct-25th
DTSTART:20221025T130000Z
DTEND:20221025T140000Z
END:VEVENT
END:VCALENDAR
