BEGIN:VCALENDAR
VERSION:2.0
PRODID:SchoolNow
CALSCALE:GREGORIAN
BEGIN:VEVENT
UID:1d9985da-315f-11ed-bba4-02c0d22b8e6d
DTSTAMP:20220910T232010Z
SUMMARY:Water Aerobics - Oct. 21st
URL;VALUE=URI:https://www.wildernesslakecdd.org/calendar/3373423/water-aero
 bics-oct-21st
DTSTART:20221021T130000Z
DTEND:20221021T140000Z
END:VEVENT
END:VCALENDAR
